BEGIN:VCALENDAR
VERSION:2.0
PRODID:-//TSV Engelburg - ECPv5.9.0//NONSGML v1.0//EN
CALSCALE:GREGORIAN
METHOD:PUBLISH
X-WR-CALNAME:TSV Engelburg
X-ORIGINAL-URL:https://tsvengelburg.ch
X-WR-CALDESC:Veranstaltungen für TSV Engelburg
BEGIN:VTIMEZONE
TZID:Europe/Zurich
BEGIN:DAYLIGHT
TZOFFSETFROM:+0100
TZOFFSETTO:+0200
TZNAME:CEST
DTSTART:20220327T010000
END:DAYLIGHT
BEGIN:STANDARD
TZOFFSETFROM:+0200
TZOFFSETTO:+0100
TZNAME:CET
DTSTART:20221030T010000
END:STANDARD
END:VTIMEZONE
BEGIN:VEVENT
DTSTART;VALUE=DATE:20221028
DTEND;VALUE=DATE:20221029
DTSTAMP:20260420T032222
CREATED:20211030T072551Z
LAST-MODIFIED:20220825T092453Z
UID:5805-1666915200-1667001599@tsvengelburg.ch
SUMMARY:24. TSV-Nachtvolleyballturnier
DESCRIPTION:Seit der ersten Austragung im Jahr 1999 gehört dieses nächtliche Vergnügen zum festen Programm des Turnvereins: alljährlich im Oktober lädt die Volleyriege zur Volleyballnacht ein. Bis in die frühen Morgenstunden kämpfen Pläuschler und Profis\, Damen- und Mixed-Teams um den Einzug ins Finale. \n24. Nachtvolleyballturnier \n\nDatum: Freitag\, 28. Oktober 2022\nBegrüssung um 18.15 Uhr\nSpielzeit Beginn 18.30 Uhr\, Turnierende ca. 01.30 Uhr\nOrt: Dreifachturnhalle Engelburg\nSpielpläne werden ca. 10 Tage vor dem Turnier per E-Mail zugesandt\nKategorien: Damen und Mixed (mindestens drei Frauen)\nSpieldauer 20–30 Minuten\, je nach Anzahl Mannschaften\nAuszeichnung: Mannschaftspreise für die ersten drei Teams (Mixed)\, Mannschaftspreise für die ersten zwei Teams (Damen). Die ausscheidenden Teams erhalten eine kleine Aufmerksamkeit\nDie Teilnehmerzahl ist beschränkt und wird in der Reihenfolge der Anmeldungen berücksichtigt\nStartgeld Der Einsatz beträgt Fr. 60.– pro Mannschaft und ist im Voraus einzuzahlen. Bei Fernbleiben einer Mannschaft verfällt der Einsatz zugunsten des Veranstalters\n\nAnmeldung per Formular \n\nAnmeldeschluss: 30. September 2022\nBei Fragen wende dich an cmjn_gegi@bluewin.ch\n\nAnmeldung Nachtvolleyballturnier 2022Downloads \n\nNachtvolleyballturnier Ausschreibung 2022\nNachtvolleyballturnier Reglement 2022
URL:https://tsvengelburg.ch/event/24-tsv-nachtvolleyballturnier/
LOCATION:Schulanlage Engelburg\, St.Gallerstrasse 22\, Engelburg\, 9032\, Schweiz
CATEGORIES:Nachtvolleyballturnier
ATTACH;FMTTYPE=image/jpeg:https://tsvengelburg.ch/wp-content/uploads/2021/10/Nachtvolleyturnier-2022.jpg
END:VEVENT
END:VCALENDAR