BEGIN:VCALENDAR
VERSION:2.0
PRODID:-//TSV Engelburg - ECPv5.9.0//NONSGML v1.0//EN
CALSCALE:GREGORIAN
METHOD:PUBLISH
X-WR-CALNAME:TSV Engelburg
X-ORIGINAL-URL:https://tsvengelburg.ch
X-WR-CALDESC:Veranstaltungen für TSV Engelburg
BEGIN:VTIMEZONE
TZID:Europe/Zurich
BEGIN:DAYLIGHT
TZOFFSETFROM:+0100
TZOFFSETTO:+0200
TZNAME:CEST
DTSTART:20250330T010000
END:DAYLIGHT
BEGIN:STANDARD
TZOFFSETFROM:+0200
TZOFFSETTO:+0100
TZNAME:CET
DTSTART:20251026T010000
END:STANDARD
END:VTIMEZONE
BEGIN:VEVENT
DTSTART;VALUE=DATE:20251024
DTEND;VALUE=DATE:20251025
DTSTAMP:20260419T161136
CREATED:20250729T112436Z
LAST-MODIFIED:20250730T093936Z
UID:9568-1761264000-1761350399@tsvengelburg.ch
SUMMARY:27. TSV-Nachtvolleyballturnier
DESCRIPTION:Seit der ersten Austragung im Jahr 1999 gehört dieses nächtliche Vergnügen zum festen Programm des Turnvereins: alljährlich im Oktober lädt die Volleyriege zur Volleyballnacht ein. Bis in die frühen Morgenstunden kämpfen die Mixed-Teams um den Einzug ins Finale. \n27. Nachtvolleyballturnier \n\nDatum: Freitag\, 24. Oktober 2025\nBegrüssung um 18.15 Uhr\nSpielzeit Beginn 18.30 Uhr\, Turnierende ca. 01.30 Uhr\nOrt: Dreifachturnhalle Engelburg\nSpielpläne werden ca. 10 Tage vor dem Turnier per E-Mail zugesandt\nKategorien: Mixed (mindestens drei Frauen)\nSpieldauer 18–25 Minuten\, je nach Anzahl Mannschaften\nAuszeichnung: Mannschaftspreise für die ersten drei Teams. Die ausscheidenden Teams erhalten eine kleine Aufmerksamkeit\nDie Teilnehmerzahl ist beschränkt und wird in der Reihenfolge der Anmeldungen berücksichtigt (max. 18 Teams)\, Anmeldung nur via Formular auf der Webseite\nStartgeld: Der Einsatz beträgt CHF 70.00 pro Mannschaft und ist im Voraus einzuzahlen. Bei Fernbleiben einer Mannschaft verfällt der Einsatz zugunsten des Veranstalters\n\nFestwirtschaft \nWir bieten wieder einen Pasta­-Plausch an! Kosten: CHF 8.00/Person. Bezahlung erst vor Ort beim Anmeldestand. Bitte bei der Anmeldung die Anzahl Personen bekanntgeben. \nAnmeldung und Kontakt \n\nAnmeldung via Anmeldeformular\nAnmeldeschluss: 22. September 2025\nBei Fragen wende dich an angelia.hugentobler@gmx.ch\n\nEinzahlung \nDie Anmeldung gilt erst nach Einzahlung des Startgeldes von CHF 70.00 bis spätestens 22. September 2025 auf folgendes Konto:\nIBAN CH53 8080 8009 3674 1146 7\nRaiffeisenbank Regio St.Gallen West\nTSV Engelburg Volleyball \nAnmeldung Nachtvolleyballturnier 2025Downloads \n\nNachtvolleyballturnier Ausschreibung 2025\nNachtvolleyballturnier Reglement 2025
URL:https://tsvengelburg.ch/event/27-tsv-nachtvolleyballturnier/
LOCATION:Schulanlage Engelburg\, St.Gallerstrasse 22\, Engelburg\, 9032\, Schweiz
CATEGORIES:Nachtvolleyballturnier
ATTACH;FMTTYPE=image/jpeg:https://tsvengelburg.ch/wp-content/uploads/2021/10/Nachtvolleyturnier-2022.jpg
END:VEVENT
END:VCALENDAR