BEGIN:VCALENDAR
VERSION:2.0
PRODID:-//TSV Engelburg - ECPv5.9.0//NONSGML v1.0//EN
CALSCALE:GREGORIAN
METHOD:PUBLISH
X-WR-CALNAME:TSV Engelburg
X-ORIGINAL-URL:https://tsvengelburg.ch
X-WR-CALDESC:Veranstaltungen für TSV Engelburg
BEGIN:VTIMEZONE
TZID:Europe/Zurich
BEGIN:DAYLIGHT
TZOFFSETFROM:+0100
TZOFFSETTO:+0200
TZNAME:CEST
DTSTART:20210328T010000
END:DAYLIGHT
BEGIN:STANDARD
TZOFFSETFROM:+0200
TZOFFSETTO:+0100
TZNAME:CET
DTSTART:20211031T010000
END:STANDARD
END:VTIMEZONE
BEGIN:VEVENT
DTSTART;VALUE=DATE:20210613
DTEND;VALUE=DATE:20210614
DTSTAMP:20260424T143951
CREATED:20210322T152310Z
LAST-MODIFIED:20210528T070337Z
UID:5158-1623542400-1623628799@tsvengelburg.ch
SUMMARY:Dä schnellscht Engelburger 2021 - ausgebucht
DESCRIPTION:SEB – ausgebucht\, dank sprintfreudigen Engelburger/innen! Vielen Dank für das grosse Interesse. Wir freuen uns auf den Anlass. \nGemäss BAG dürfen wir den „schnellscht Engelburger“ Anlass mit einem Publikum von 300 (inkl. Kids und Helfer) durchführen. \nBei Fragen wende dich an seb@tsvengelburg.ch \nProvisorischer Zeitplan \n\n13.00 Uhr\, Kurzes Einturnen\n13.20 Uhr\, Einzel-Sprint Vorläufe\n15.00 Uhr\, Staffel-Sprint und Final Einzel-Sprint\nca. 16.00 Uhr\, Rangverkündigung\n\nTSV-Festbeiz \nJe nach Vorschriften des Bundes wird es eine Festwirtschaft oder Imbiss geben. Dies jedoch mit Vorbehalt.
URL:https://tsvengelburg.ch/event/dae-schnellscht-engelburger-2021/
LOCATION:Schulanlage Engelburg\, St.Gallerstrasse 22\, Engelburg\, 9032\, Schweiz
CATEGORIES:Dä schnellscht Engelburger
ATTACH;FMTTYPE=image/jpeg:https://tsvengelburg.ch/wp-content/uploads/2021/03/SEB_2018.jpg
ORGANIZER;CN="SEB%20TSV%20Engelburg":MAILTO:seb@tsvengelburg.ch
END:VEVENT
END:VCALENDAR