BEGIN:VCALENDAR
VERSION:2.0
PRODID:-//TSV Engelburg - ECPv5.9.0//NONSGML v1.0//EN
CALSCALE:GREGORIAN
METHOD:PUBLISH
X-WR-CALNAME:TSV Engelburg
X-ORIGINAL-URL:https://tsvengelburg.ch
X-WR-CALDESC:Veranstaltungen für TSV Engelburg
BEGIN:VTIMEZONE
TZID:Europe/Zurich
BEGIN:DAYLIGHT
TZOFFSETFROM:+0100
TZOFFSETTO:+0200
TZNAME:CEST
DTSTART:20230326T010000
END:DAYLIGHT
BEGIN:STANDARD
TZOFFSETFROM:+0200
TZOFFSETTO:+0100
TZNAME:CET
DTSTART:20231029T010000
END:STANDARD
END:VTIMEZONE
BEGIN:VEVENT
DTSTART;VALUE=DATE:20230611
DTEND;VALUE=DATE:20230612
DTSTAMP:20260420T015944
CREATED:20230324T094731Z
LAST-MODIFIED:20230324T094731Z
UID:7281-1686441600-1686527999@tsvengelburg.ch
SUMMARY:Dä schnellscht Engelburger 2023
DESCRIPTION:Achtung… fertig… los… Melde dich jetzt für das legendäre Sprint- und Staffelrennen des TSV Engelburg vom Sonntag\, 11. Juni 2023 an. \n«Schnellscht Engelburger/in» wird unter Kindern und Jugendlichen ausgetragen. Die Kids kämpfen in ihren Jahrgängen um den SEB-Titel. Bei der Staffel starten 6 Läufer/innen – wir freuen uns auf gemischte Staffeln\, von jung bis alt\, Familien-\, Klassen- oder Riegenstaffeln\, es ist alles erlaubt! Die Läufe finden bei jeder Witterung statt! \nNEU mit Hüpfburg! \nHerzlichen Dank der Firma metallround ag\, welche uns als Anlass-Sponsor untertstützt. \nProgramm\, 11. Juni 2023 \n\nab 12.00 Uhr TSV-Festbeiz\n13.00 Uhr Kurzes Einturnen\n13.20 Uhr Einzel-Sprint Vorläufe\n15.00 Uhr Staffel-Sprint und Final Einzel-Sprint\nca. 16.00 Uhr Rangverkündigung\n\nDie genauen Startzeiten sind um 11.45 Uhr auf dem Wettkampftableau neben der Festbeiz ersichtlich. \nAnmeldung \n\nAnmeldeschluss: 29. Mai 2023\nJedes startende Kind erhält ein Geschenk\nBei Fragen wende dich an seb@tsvengelburg.ch\n\nAnmeldung SprintAnmeldung StaffelTSV-Festbeiz \nEltern\, Bekannte und Freunde sind herzlich eingeladen\, die Wettkämpfe live mitzuerleben. Der TSV bewirtet Sie gerne in der Festbeiz ab 12.00 Uhr bei der Laufbahn der Schulanlagen Engelburg.
URL:https://tsvengelburg.ch/event/dae-schnellscht-engelburger-2023/
LOCATION:Schulanlage Engelburg\, St.Gallerstrasse 22\, Engelburg\, 9032\, Schweiz
CATEGORIES:Dä schnellscht Engelburger
ATTACH;FMTTYPE=image/jpeg:https://tsvengelburg.ch/wp-content/uploads/2021/03/SEB_2018.jpg
ORGANIZER;CN="SEB%20TSV%20Engelburg":MAILTO:seb@tsvengelburg.ch
END:VEVENT
END:VCALENDAR