BEGIN:VCALENDAR
VERSION:2.0
PRODID:-//TSV Engelburg - ECPv5.9.0//NONSGML v1.0//EN
CALSCALE:GREGORIAN
METHOD:PUBLISH
X-WR-CALNAME:TSV Engelburg
X-ORIGINAL-URL:https://tsvengelburg.ch
X-WR-CALDESC:Veranstaltungen für TSV Engelburg
BEGIN:VTIMEZONE
TZID:Europe/Zurich
BEGIN:DAYLIGHT
TZOFFSETFROM:+0100
TZOFFSETTO:+0200
TZNAME:CEST
DTSTART:20240331T010000
END:DAYLIGHT
BEGIN:STANDARD
TZOFFSETFROM:+0200
TZOFFSETTO:+0100
TZNAME:CET
DTSTART:20241027T010000
END:STANDARD
END:VTIMEZONE
BEGIN:VEVENT
DTSTART;TZID=Europe/Zurich:20241108T200000
DTEND;TZID=Europe/Zurich:20241108T200000
DTSTAMP:20260419T180603
CREATED:20220915T123033Z
LAST-MODIFIED:20240923T130913Z
UID:6581-1731096000-1731096000@tsvengelburg.ch
SUMMARY:TSV-Unterhaltung 2024
DESCRIPTION:
URL:https://tsvengelburg.ch/event/tsv-unterhaltung-2022-11-04/
LOCATION:Schulanlage Engelburg\, St.Gallerstrasse 22\, Engelburg\, 9032\, Schweiz
CATEGORIES:Unterhaltung
ATTACH;FMTTYPE=image/jpeg:https://tsvengelburg.ch/wp-content/uploads/2024/09/TSV_UH24_Event_Web-scaled.jpg
ORGANIZER;CN="TSV%20Unterhaltung":MAILTO:marketing@tsvengelburg.ch
END:VEVENT
END:VCALENDAR