BEGIN:VCALENDAR
VERSION:2.0
PRODID:-//TSV Engelburg - ECPv5.9.0//NONSGML v1.0//EN
CALSCALE:GREGORIAN
METHOD:PUBLISH
X-WR-CALNAME:TSV Engelburg
X-ORIGINAL-URL:https://tsvengelburg.ch
X-WR-CALDESC:Veranstaltungen für TSV Engelburg
BEGIN:VTIMEZONE
TZID:Europe/Zurich
BEGIN:DAYLIGHT
TZOFFSETFROM:+0100
TZOFFSETTO:+0200
TZNAME:CEST
DTSTART:20220327T010000
END:DAYLIGHT
BEGIN:STANDARD
TZOFFSETFROM:+0200
TZOFFSETTO:+0100
TZNAME:CET
DTSTART:20221030T010000
END:STANDARD
END:VTIMEZONE
BEGIN:VEVENT
DTSTART;VALUE=DATE:20220910
DTEND;VALUE=DATE:20220911
DTSTAMP:20260424T102255
CREATED:20210831T203529Z
LAST-MODIFIED:20211022T120640Z
UID:5597-1662768000-1662854399@tsvengelburg.ch
SUMMARY:TSV Vereinsanlass
DESCRIPTION:Geschätzte TSV Mitglieder \nWie im September 2021 angekündigt\, plant der TSV-Engelburg einen riegenübergreifenden Anlass für Klein bis Gross. \nDiverse Faktoren haben das OK gezwungen von der Durchführung im November 2021 abzusehen. Zum einen möchten wir niemandem eine Impfung vorschreiben und zum anderen wünschen wir uns wirklich einen Anlass mit sehr vielen Teilnehmern. \nDa im Spätsommer 2022 die Saison bei den meisten Riegen zu Ende ist und es temperaturtechnisch auch möglich ist die Aussenanlagen zu nutzen\, hat sich das OK entschieden diesen einmaligen und ausserordentlich spannenden Event auf den Samstag 10. September 2022 zu verschieben. \nMit der Verschiebung wünschen wir uns eine rege Teilnahme sämtlicher Riegen. Bitte teilt die Information fleissig\, damit sich jede*r das Datum sichern kann. \nWir freuen uns bereits jetzt auf euch und auf einen lustigen Event.
URL:https://tsvengelburg.ch/event/tsv-vereinsanlass/
ATTACH;FMTTYPE=image/jpeg:https://tsvengelburg.ch/wp-content/uploads/2021/08/Logo-TSV-Engelburg.jpg
END:VEVENT
END:VCALENDAR